BEGIN:VCALENDAR
VERSION:2.0
PRODID:-//CalBEM - ECPv6.15.17//NONSGML v1.0//EN
CALSCALE:GREGORIAN
METHOD:PUBLISH
X-WR-CALNAME:CalBEM
X-ORIGINAL-URL:https://calbem.ibpsa.us
X-WR-CALDESC:Events for CalBEM
REFRESH-INTERVAL;VALUE=DURATION:PT1H
X-Robots-Tag:noindex
X-PUBLISHED-TTL:PT1H
BEGIN:VTIMEZONE
TZID:America/Los_Angeles
BEGIN:DAYLIGHT
TZOFFSETFROM:-0800
TZOFFSETTO:-0700
TZNAME:PDT
DTSTART:20250309T100000
END:DAYLIGHT
BEGIN:STANDARD
TZOFFSETFROM:-0700
TZOFFSETTO:-0800
TZNAME:PST
DTSTART:20251102T090000
END:STANDARD
BEGIN:DAYLIGHT
TZOFFSETFROM:-0800
TZOFFSETTO:-0700
TZNAME:PDT
DTSTART:20260308T100000
END:DAYLIGHT
BEGIN:STANDARD
TZOFFSETFROM:-0700
TZOFFSETTO:-0800
TZNAME:PST
DTSTART:20261101T090000
END:STANDARD
BEGIN:DAYLIGHT
TZOFFSETFROM:-0800
TZOFFSETTO:-0700
TZNAME:PDT
DTSTART:20270314T100000
END:DAYLIGHT
BEGIN:STANDARD
TZOFFSETFROM:-0700
TZOFFSETTO:-0800
TZNAME:PST
DTSTART:20271107T090000
END:STANDARD
END:VTIMEZONE
BEGIN:VEVENT
DTSTART;TZID=America/Los_Angeles:20260505T110000
DTEND;TZID=America/Los_Angeles:20260505T120000
DTSTAMP:20260424T065046
CREATED:20260415T164608Z
LAST-MODIFIED:20260415T165151Z
UID:3524-1777978800-1777982400@calbem.ibpsa.us
SUMMARY:CalBEM Working Group 1 Webinar: Input on California Regional Approach to LEED v5
DESCRIPTION:Please join the CalBEM Working Group 1 Co-Chairs and USGBC staff for an informal information-gathering session to share feedback on the approach and key considerations for LEED v5 Energy & Atmosphere Alternative Compliance Paths (ACPs) for California projects subject to Title 24-2025.\n\nUSGBC is exploring ways to reduce documentation burden by leveraging Title 24 where it aligns with LEED requirements—including\, where practical\, recognizing Title 24 equivalence to corresponding ASHRAE 90.1-2019 and/or 90.1-2022 provisions.\n\nFocus areas:\n\nEAp2: Minimum Energy Efficiency / EAc: Enhanced Energy Efficiency\n\nPrescriptive or Energy Simulation with envelope backstop\nBD+C EAc3: 10 points (New Construction); 7 points (Core & Shell)\nID+C EAc2: 12 points\n\n\nEAp3: Fundamental Commissioning\nEAp4: Energy Metering and Reporting\nEAc1: Electrification\n\nRequirements: no on-site combustion; weighted average efficiency\n5 (BD+C: New Construction); 4 (BD+C: Core & Shell); 5 (ID+C – out of scope for this iteration of California ACPs)\n\n\nBD+C EAc2: Reduce Peak Thermal Loads (5 points)\n\nPrecondition: Envelope—no worse than ASHRAE 90.1-2019 or 2022\nOption 4: Peak Thermal Load Reduction (3 points)\n\n\n\nFurther background:\n\nLEED v5\nCalifornia ACPs recognized for earlier versions of LEED and Title-24\n\nhttps://www.usgbc.org/credits/green-codes-california-acp.\n\n\nLEED v5 Energy Efficiency ACPs for Canada (similar format under consideration for California ACPs)\n\nRACP16: Canadian ACP for Minimum Energy Efficiency with NECB\nRACP17: Canadian ACP for Enhanced Energy Efficiency with NECB\n\n\n\nThis calendar event is just a placeholder. Meeting invitations have been sent. Please reach out to us at info@calbem.org if you have any questions or concerns\, or if you would like to join this meeting and have not received an invitation. If you are not already signed up to receive Working Group 1 notifications\, you can sign up here.
URL:https://calbem.ibpsa.us/event/calbem-working-group-1-webinar-input-on-california-regional-approach-to-leed-v5/
LOCATION:Teams Meeting
END:VEVENT
BEGIN:VEVENT
DTSTART;VALUE=DATE:20261117
DTEND;VALUE=DATE:20261119
DTSTAMP:20260424T065046
CREATED:20260224T035946Z
LAST-MODIFIED:20260224T221802Z
UID:3507-1794873600-1795046399@calbem.ibpsa.us
SUMMARY:CalBEM 2026 Symposium
DESCRIPTION:
URL:https://calbem.ibpsa.us/event/calbem-2026-symposium/
LOCATION:The Kimpton Sawyer\, 500 J Street\, Sacramento\, CA\, 95814\, United States
ORGANIZER;CN="CalBEM Planning Team":MAILTO:info@calbem.org
END:VEVENT
END:VCALENDAR